View In:
ArcGIS JavaScript
ArcGIS Online Map Viewer
ArcGIS Earth
ArcMap
View Footprint In:
ArcGIS Online Map Viewer
Service Description: CityWide/AerialImagery2023_StatePlane
Name: CityWide/AerialImagery2023_StatePlane
Description:
Single Fused Map Cache: true
Tile Info:
- Height: 256
- Width: 256
- DPI: 96
-
Levels of Detail: 8
- Format: MIXED
- Compression Quality: 75.0
- LERC Error: NaN
- Origin: X: 508764.913248
Y: 1586333.998629
- Spatial Reference: 102658
(2236)
LatestVCSWkid(0)
Storage Info:
- Storage Format: esriMapCacheStorageModeCompactV2
- Packet Size: 128
Extent:
XMin: 508764.9132484123
YMin: 1564998.6784392372
XMax: 550136.459442161
YMax: 1586333.998629406
Spatial Reference: 102658
(2236)
LatestVCSWkid(0)
Initial Extent:
XMin: 508764.9132484123
YMin: 1564998.6784392372
XMax: 550136.459442161
YMax: 1586333.998629406
Spatial Reference: 102658
(2236)
LatestVCSWkid(0)
Full Extent:
XMin: 508764.9132484123
YMin: 1564998.6784392372
XMax: 550136.459442161
YMax: 1586333.998629406
Spatial Reference: 102658
(2236)
LatestVCSWkid(0)
Pixel Size X: 0.24999876844554988
Pixel Size Y: 0.24999789306752732
Band Count: 3
Pixel Type: U8
RasterFunction Infos: {"rasterFunctionInfos": [{
"name": "None",
"description": "",
"help": ""
}]}
Mensuration Capabilities: Basic
Has Histograms: true
Has Colormap: false
Has Multi Dimensions : false
Rendering Rule:
Min Scale: 9028
Max Scale: 70
Min LOD: 0
Max LOD: 7
Copyright Text:
Service Data Type: esriImageServiceDataTypeRGB
Min Values: 0, 0, 0
Max Values: 255, 255, 255
Mean Values: 104.91985047288, 109.93655997643, 112.12771286351
Standard Deviation Values: 58.604311254963, 50.510146347709, 40.000477947339
Object ID Field:
Fields:
None
Default Mosaic Method: Center
Allowed Mosaic Methods:
SortField:
SortValue: null
Mosaic Operator: First
Default Compression Quality: 75
Default Resampling Method: Bilinear
Max Record Count: null
Max Image Height: 4100
Max Image Width: 15000
Max Download Image Count: null
Max Mosaic Image Count: null
Allow Raster Function: true
Allow Copy: true
Allow Analysis: true
Allow Compute TiePoints: false
Supports Statistics: false
Supports Advanced Queries: false
Use StandardizedQueries: true
Raster Type Infos:
Name: Raster Dataset
Description: Supports all ArcGIS Raster Datasets
Help:
Has Raster Attribute Table: false
Edit Fields Info: null
Ownership Based AccessControl For Rasters: null
Child Resources:
Info
Histograms
Statistics
Key Properties
Legend
Raster Function Infos
Supported Operations:
Export Image
Identify
Measure
Compute Histograms
Compute Statistics Histograms
Get Samples
Compute Class Statistics
Query Boundary
Compute Pixel Location
Compute Angles
Validate
Project