{
 "currentVersion": 10.91,
 "serviceDescription": "CityWide/AerialImagery2023_StatePlane",
 "name": "CityWide/AerialImagery2023_StatePlane",
 "description": "",
 "extent": {
  "xmin": 508764.9132484123,
  "ymin": 1564998.6784392372,
  "xmax": 550136.459442161,
  "ymax": 1586333.998629406,
  "spatialReference": {
   "wkid": 102658,
   "latestWkid": 2236
  }
 },
 "initialExtent": {
  "xmin": 508764.9132484123,
  "ymin": 1564998.6784392372,
  "xmax": 550136.459442161,
  "ymax": 1586333.998629406,
  "spatialReference": {
   "wkid": 102658,
   "latestWkid": 2236
  }
 },
 "fullExtent": {
  "xmin": 508764.9132484123,
  "ymin": 1564998.6784392372,
  "xmax": 550136.459442161,
  "ymax": 1586333.998629406,
  "spatialReference": {
   "wkid": 102658,
   "latestWkid": 2236
  }
 },
 "hasMultidimensions": false,
 "pixelSizeX": 0.24999876844554988,
 "pixelSizeY": 0.24999789306752732,
 "datasetFormat": "TIFF",
 "uncompressedSize": 42368974662,
 "blockWidth": 128,
 "blockHeight": 128,
 "compressionType": "LZW",
 "bandNames": [
  "Band_1",
  "Band_2",
  "Band_3"
 ],
 "allowCopy": true,
 "allowAnalysis": true,
 "bandCount": 3,
 "noDataValue": 256,
 "noDataValues": [
  256,
  256,
  256
 ],
 "pixelType": "U8",
 "minPixelSize": 0.060763888888888895,
 "maxPixelSize": 7.8368055555555545,
 "copyrightText": "",
 "serviceDataType": "esriImageServiceDataTypeRGB",
 "serviceSourceType": "esriImageServiceSourceTypeDataset",
 "minValues": [
  0,
  0,
  0
 ],
 "maxValues": [
  255,
  255,
  255
 ],
 "meanValues": [
  104.91985047288,
  109.93655997643,
  112.12771286351
 ],
 "stdvValues": [
  58.604311254963,
  50.510146347709,
  40.000477947339
 ],
 "objectIdField": "",
 "fields": [],
 "capabilities": "Image,Metadata,Mensuration",
 "defaultMosaicMethod": "Center",
 "allowedMosaicMethods": "",
 "sortField": "",
 "sortValue": null,
 "sortAscending": true,
 "mosaicOperator": "First",
 "defaultCompressionQuality": 75,
 "defaultResamplingMethod": "Bilinear",
 "maxImageHeight": 4100,
 "maxImageWidth": 15000,
 "singleFusedMapCache": true,
 "tileInfo": {
  "rows": 256,
  "cols": 256,
  "dpi": 96,
  "format": "MIXED",
  "compressionQuality": 75,
  "origin": {
   "x": 508764.913248,
   "y": 1586333.998629
  },
  "spatialReference": {
   "wkid": 102658,
   "latestWkid": 2236
  },
  "lods": [
   {
    "level": 0,
    "resolution": 7.836805555555555,
    "scale": 9028
   },
   {
    "level": 1,
    "resolution": 3.9184027777777777,
    "scale": 4514
   },
   {
    "level": 2,
    "resolution": 1.9592013888888888,
    "scale": 2257
   },
   {
    "level": 3,
    "resolution": 0.9791666666666666,
    "scale": 1128
   },
   {
    "level": 4,
    "resolution": 0.4895833333333333,
    "scale": 564
   },
   {
    "level": 5,
    "resolution": 0.24479166666666666,
    "scale": 282
   },
   {
    "level": 6,
    "resolution": 0.12239583333333333,
    "scale": 141
   },
   {
    "level": 7,
    "resolution": 0.06076388888888889,
    "scale": 70
   }
  ]
 },
 "storageInfo": {
  "storageFormat": "esriMapCacheStorageModeCompactV2",
  "packetSize": 128
 },
 "cacheType": "Map",
 "allowRasterFunction": true,
 "rasterFunctionInfos": [
  {
   "name": "None",
   "description": "",
   "help": ""
  }
 ],
 "rasterTypeInfos": [
  {
   "name": "Raster Dataset",
   "description": "Supports all ArcGIS Raster Datasets",
   "help": ""
  }
 ],
 "mensurationCapabilities": "Basic",
 "hasHistograms": true,
 "hasColormap": false,
 "hasRasterAttributeTable": false,
 "minScale": 9028,
 "maxScale": 70,
 "minLOD": 0,
 "maxLOD": 7,
 "exportTilesAllowed": false,
 "supportsStatistics": false,
 "supportsAdvancedQueries": false,
 "editFieldsInfo": null,
 "ownershipBasedAccessControlForRasters": null,
 "allowComputeTiePoints": false,
 "useStandardizedQueries": true,
 "advancedQueryCapabilities": {
  "useStandardizedQueries": true,
  "supportsStatistics": false,
  "supportsOrderBy": false,
  "supportsDistinct": false,
  "supportsPagination": false
 },
 "spatialReference": {
  "wkid": 102658,
  "latestWkid": 2236
 }
}
